BEGIN:VCALENDAR
VERSION:2.0
PRODID:icalendar-ruby
CALSCALE:GREGORIAN
METHOD:PUBLISH
BEGIN:VEVENT
DTSTAMP:20260419T223538Z
UID:8-783129@kingdomplacenc.com
DTSTART:20260829T230000Z
DTEND:20260830T003000Z
CLASS:PUBLIC
CREATED:20260419T145948
DESCRIPTION:Saturday Night Zoom Service\nWorship with us \nJoin us on zoom 
 as we encounter Jesus\, through His love\, His Presence and His Word!!!
LAST-MODIFIED:20260419T145948
LOCATION:Zoom!
SUMMARY:Kingdom Place Saturday Night Zoom 7:PM(EST)
URL;VALUE=URI:https://kingdomplacenc.com/events/kingdom-place-saturday-nigh
 t-zoom-7-pm-est/2026-08-29
ATTACH;FILENAME=F0RfW.jpg;FMTTYPE=image/jpeg:https://dq5pwpg1q8ru0.cloudfro
 nt.net/2021/10/15/15/17/37/49ed1418-7878-42a5-b0eb-9950d5285bc9/F0RfW.jpg
END:VEVENT
END:VCALENDAR
