BEGIN:VCALENDAR
VERSION:2.0
PRODID:icalendar-ruby
CALSCALE:GREGORIAN
METHOD:PUBLISH
BEGIN:VEVENT
DTSTAMP:20260420T023908Z
UID:8-784183@kingdomplacenc.com
DTSTART:20260912T230000Z
DTEND:20260913T003000Z
CLASS:PUBLIC
CREATED:20260419T222216
DESCRIPTION:Saturday Night Zoom Service\nWorship with us \nJoin us on zoom 
 as we encounter Jesus\, through His love\, His Presence and His Word!!!
LAST-MODIFIED:20260419T222216
LOCATION:Zoom!
SUMMARY:Kingdom Place Saturday Night Zoom 7:PM(EST)
URL;VALUE=URI:https://kingdomplacenc.com/events/kingdom-place-saturday-nigh
 t-zoom-7-pm-est/2026-09-12
ATTACH;FILENAME=F0RfW.jpg;FMTTYPE=image/jpeg:https://dq5pwpg1q8ru0.cloudfro
 nt.net/2021/10/15/15/17/37/49ed1418-7878-42a5-b0eb-9950d5285bc9/F0RfW.jpg
END:VEVENT
END:VCALENDAR
