BEGIN:VCALENDAR
VERSION:2.0
PRODID:icalendar-ruby
CALSCALE:GREGORIAN
METHOD:PUBLISH
BEGIN:VEVENT
DTSTAMP:20260420T003936Z
UID:5-783540@kingdomplacenc.com
DTSTART:20260812T230000Z
DTEND:20260813T003000Z
CLASS:PUBLIC
CREATED:20260419T184238
DESCRIPTION:I believe to understand what happened at the cross and what hap
 pened in salvation\, we need to understand the book of Romans. We need the
  Revelation that it contains. This is a verse by verse study using differe
 nt translations and "The Living Commentary".\nWe would love to have you jo
 in us! Just contact us by email us at ernestine@kingdomplacenc.com\nCheck 
 our study out by clicking Zoon link!  To join by phone call the number ab
 ove.
LAST-MODIFIED:20260419T184238
LOCATION: Click the picture and scroll down to the zoom link!
SUMMARY:Kingdom Wednesday Group
URL;VALUE=URI:https://kingdomplacenc.com/events/kingdom-wednesday-group/202
 6-08-12
ATTACH;FILENAME=F39Ux.jpg;FMTTYPE=image/jpeg:https://dq5pwpg1q8ru0.cloudfro
 nt.net/2021/09/06/14/53/26/49e6451f-eb0c-45d3-a1b4-7678f4b8bd75/F39Ux.jpg
ATTACH;FILENAME=RGkm.jpg;FMTTYPE=image/jpeg:https://dq5pwpg1q8ru0.cloudfron
 t.net/2022/09/05/20/08/56/a3b6b610-6f28-42c9-bbd9-8edbcb752ee0/RGkm.jpg
END:VEVENT
END:VCALENDAR
